BEGIN:VCALENDAR
VERSION:2.0
PRODID:spatie/icalendar-generator
DESCRIPTION:Events from Bonnie B&amp;#039\;s Peppers
X-WR-CALDESC:Events from Bonnie B&amp;#039\;s Peppers
REFRESH-INTERVAL;VALUE=DURATION:PT1440M
X-PUBLISHED-TTL:PT1440M
BEGIN:VTIMEZONE
TZID:America/Los_Angeles
BEGIN:STANDARD
DTSTART:20241103T020000Z
TZOFFSETFROM:-0700
TZOFFSETTO:-0800
END:STANDARD
BEGIN:DAYLIGHT
DTSTART:20250309T020000Z
TZOFFSETFROM:-0800
TZOFFSETTO:-0700
END:DAYLIGHT
END:VTIMEZONE
BEGIN:VTIMEZONE
TZID:UTC
BEGIN:STANDARD
DTSTART:20250726T001758Z
TZOFFSETFROM:+0000
TZOFFSETTO:+0000
END:STANDARD
END:VTIMEZONE
BEGIN:VEVENT
UID:880-7
DTSTAMP:20260422T001758Z
SUMMARY:Edmonds Holiday Market
LOCATION:
ORGANIZER;CN=Dylan Randolph:MAILTO:bonniebspeppers@gmail.com
RRULE:FREQ=WEEKLY;UNTIL=20241222T000000Z
DTSTART;TZID=America/Los_Angeles:20241207T100000
DTEND;TZID=America/Los_Angeles:20241207T150000
X-ALT-DESC;FMTTYPE=TEXT/HTML:
CATEGORIES:Hot Dogs,  Farmers Market
URL;VALUE=URI:https://www.bonniebspeppers.com/mc-events/edmonds-holiday-mar
 ket/?mc_id=880
METHOD:PUBLISH
END:VEVENT
END:VCALENDAR