BEGIN:VCALENDAR
VERSION:2.0
PRODID:spatie/icalendar-generator
DESCRIPTION:Events from Bonnie B&amp;#039\;s Peppers
X-WR-CALDESC:Events from Bonnie B&amp;#039\;s Peppers
REFRESH-INTERVAL;VALUE=DURATION:PT1440M
X-PUBLISHED-TTL:PT1440M
BEGIN:VTIMEZONE
TZID:America/Los_Angeles
BEGIN:DAYLIGHT
DTSTART:20260308T020000Z
TZOFFSETFROM:-0800
TZOFFSETTO:-0700
END:DAYLIGHT
BEGIN:STANDARD
DTSTART:20261101T020000Z
TZOFFSETFROM:-0700
TZOFFSETTO:-0800
END:STANDARD
END:VTIMEZONE
BEGIN:VTIMEZONE
TZID:UTC
BEGIN:STANDARD
DTSTART:20250726T015045Z
TZOFFSETFROM:+0000
TZOFFSETTO:+0000
END:STANDARD
END:VTIMEZONE
BEGIN:VEVENT
UID:96-2
DTSTAMP:20260422T015045Z
SUMMARY:Sunday Ballard Farmers Market
LOCATION:Ballard 5345 Ballard Ave NW  Seattle WA 98107
ORGANIZER;CN=Dylan Randolph:MAILTO:bonniebspeppers@gmail.com
RRULE:FREQ=WEEKLY;UNTIL=20281029T000000Z
DTSTART;TZID=America/Los_Angeles:20260802T090000
DTEND;TZID=America/Los_Angeles:20260802T140000
X-ALT-DESC;FMTTYPE=TEXT/HTML:
CATEGORIES:General
URL;VALUE=URI:https://www.bonniebspeppers.com/mc-events/sunday-ballard-farm
 ers-market/?mc_id=96
METHOD:PUBLISH
END:VEVENT
END:VCALENDAR