BEGIN:VCALENDAR
VERSION:2.0
PRODID:spatie/icalendar-generator
DESCRIPTION:Events from Bonnie B&amp;#039\;s Peppers
X-WR-CALDESC:Events from Bonnie B&amp;#039\;s Peppers
REFRESH-INTERVAL;VALUE=DURATION:PT1440M
X-PUBLISHED-TTL:PT1440M
BEGIN:VTIMEZONE
TZID:America/Los_Angeles
BEGIN:DAYLIGHT
DTSTART:20250309T020000Z
TZOFFSETFROM:-0800
TZOFFSETTO:-0700
END:DAYLIGHT
BEGIN:STANDARD
DTSTART:20251102T020000Z
TZOFFSETFROM:-0700
TZOFFSETTO:-0800
END:STANDARD
BEGIN:DAYLIGHT
DTSTART:20260308T020000Z
TZOFFSETFROM:-0800
TZOFFSETTO:-0700
END:DAYLIGHT
END:VTIMEZONE
BEGIN:VTIMEZONE
TZID:UTC
BEGIN:STANDARD
DTSTART:20250725T112236Z
TZOFFSETFROM:+0000
TZOFFSETTO:+0000
END:STANDARD
END:VTIMEZONE
BEGIN:VEVENT
UID:913-11
DTSTAMP:20260421T112236Z
SUMMARY:2025 Redmond Saturday Market
LOCATION:Redmond 9900 Willows Road  Redmond WA 98052
ORGANIZER;CN=Dylan Randolph:MAILTO:bonniebspeppers@gmail.com
RRULE:FREQ=WEEKLY;UNTIL=20251026T000000Z
DTSTART;TZID=America/Los_Angeles:20251025T090000
DTEND;TZID=America/Los_Angeles:20251025T140000
X-ALT-DESC;FMTTYPE=TEXT/HTML:The market dates back to 1976\, when Master Ga
 rdener Georgia Erskine founded the market. Her dream was to start an open
 -air market in her neighborhood\, so she recruited friends and formed a bo
 ard of directors.  At that time\, they leased vacant land in downtown Re
 dmond\, just North of the old post office\, for $1.00 a year.  When&amp;helli
 p\;
CATEGORIES:Farmers Market,  Hot Dogs
URL;VALUE=URI:https://www.bonniebspeppers.com/mc-events/2025-redmond-saturd
 ay-market/?mc_id=913
METHOD:PUBLISH
END:VEVENT
END:VCALENDAR